BEGIN:VCALENDAR
VERSION:2.0
PRODID:-//Escap&#039;alpes VTT - ECPv6.15.16//NONSGML v1.0//EN
CALSCALE:GREGORIAN
METHOD:PUBLISH
X-WR-CALNAME:Escap&#039;alpes VTT
X-ORIGINAL-URL:https://vtt-escapalpes.fr
X-WR-CALDESC:Évènements pour Escap&#039;alpes VTT
REFRESH-INTERVAL;VALUE=DURATION:PT1H
X-Robots-Tag:noindex
X-PUBLISHED-TTL:PT1H
BEGIN:VTIMEZONE
TZID:Europe/Paris
BEGIN:DAYLIGHT
TZOFFSETFROM:+0100
TZOFFSETTO:+0200
TZNAME:CEST
DTSTART:20230326T010000
END:DAYLIGHT
BEGIN:STANDARD
TZOFFSETFROM:+0200
TZOFFSETTO:+0100
TZNAME:CET
DTSTART:20231029T010000
END:STANDARD
BEGIN:DAYLIGHT
TZOFFSETFROM:+0100
TZOFFSETTO:+0200
TZNAME:CEST
DTSTART:20240331T010000
END:DAYLIGHT
BEGIN:STANDARD
TZOFFSETFROM:+0200
TZOFFSETTO:+0100
TZNAME:CET
DTSTART:20241027T010000
END:STANDARD
BEGIN:DAYLIGHT
TZOFFSETFROM:+0100
TZOFFSETTO:+0200
TZNAME:CEST
DTSTART:20250330T010000
END:DAYLIGHT
BEGIN:STANDARD
TZOFFSETFROM:+0200
TZOFFSETTO:+0100
TZNAME:CET
DTSTART:20251026T010000
END:STANDARD
END:VTIMEZONE
BEGIN:VEVENT
DTSTART;TZID=Europe/Paris:20240614T080000
DTEND;TZID=Europe/Paris:20240617T170000
DTSTAMP:20260422T075023
CREATED:20240330T154543Z
LAST-MODIFIED:20240506T162455Z
UID:510-1718352000-1718643600@vtt-escapalpes.fr
SUMMARY:Séjour VTTAE dans les Bauges
DESCRIPTION:Ce printemps\, partez découvrir les sentiers techniques des Bauges à VTT électrique! J’ai repéré pour vous les meilleurs sentiers\, alternant single à plat ludiques\, beaux points de vue et descentes techniques. Ce séjour est proposé avec mon partenaire Vertikal Voyage.
URL:https://vtt-escapalpes.fr/event/sejour-vttae-dans-les-bauges/
LOCATION:Arith (Bauges)
CATEGORIES:Séjour VTTAE Bauges
ATTACH;FMTTYPE=image/jpeg:https://vtt-escapalpes.fr/wp-content/uploads/IMG_20220920_171258-recadrage-scaled.jpg
END:VEVENT
END:VCALENDAR