BEGIN:VCALENDAR
VERSION:2.0
PRODID:-//Escap&#039;alpes VTT - ECPv6.15.16//NONSGML v1.0//EN
CALSCALE:GREGORIAN
METHOD:PUBLISH
X-WR-CALNAME:Escap&#039;alpes VTT
X-ORIGINAL-URL:https://vtt-escapalpes.fr
X-WR-CALDESC:Évènements pour Escap&#039;alpes VTT
REFRESH-INTERVAL;VALUE=DURATION:PT1H
X-Robots-Tag:noindex
X-PUBLISHED-TTL:PT1H
BEGIN:VTIMEZONE
TZID:Europe/Paris
BEGIN:DAYLIGHT
TZOFFSETFROM:+0100
TZOFFSETTO:+0200
TZNAME:CEST
DTSTART:20230326T010000
END:DAYLIGHT
BEGIN:STANDARD
TZOFFSETFROM:+0200
TZOFFSETTO:+0100
TZNAME:CET
DTSTART:20231029T010000
END:STANDARD
BEGIN:DAYLIGHT
TZOFFSETFROM:+0100
TZOFFSETTO:+0200
TZNAME:CEST
DTSTART:20240331T010000
END:DAYLIGHT
BEGIN:STANDARD
TZOFFSETFROM:+0200
TZOFFSETTO:+0100
TZNAME:CET
DTSTART:20241027T010000
END:STANDARD
BEGIN:DAYLIGHT
TZOFFSETFROM:+0100
TZOFFSETTO:+0200
TZNAME:CEST
DTSTART:20250330T010000
END:DAYLIGHT
BEGIN:STANDARD
TZOFFSETFROM:+0200
TZOFFSETTO:+0100
TZNAME:CET
DTSTART:20251026T010000
END:STANDARD
END:VTIMEZONE
BEGIN:VEVENT
DTSTART;TZID=Europe/Paris:20240720T080000
DTEND;TZID=Europe/Paris:20240723T170000
DTSTAMP:20260422T063355
CREATED:20240330T155130Z
LAST-MODIFIED:20240506T162351Z
UID:519-1721462400-1721754000@vtt-escapalpes.fr
SUMMARY:Séjour VTT bivouac entre Trièves et Diois
DESCRIPTION:Le VTT Bikepacking\, ou VTT BUL (Bivouac Ultra Léger)\, est un concept simple : rouler avec ses affaires sur le vélo ! Vous traverserez des coins splendides et préservés. D’abord dans les prés verdoyants\, puis entre les forêts de pins\, les bivouacs et les beaux sentiers s’enchainent pour un plaisir toujours renouvelé.
URL:https://vtt-escapalpes.fr/event/sejour-vtt-bivouac-entre-trieves-et-diois/
LOCATION:Clelles
CATEGORIES:Séjour bikepacking Trièves Diois
ATTACH;FMTTYPE=image/jpeg:https://vtt-escapalpes.fr/wp-content/uploads/DSCN0341-scaled.jpg
END:VEVENT
END:VCALENDAR